BEGIN:VCALENDAR
VERSION:2.0
PRODID:icalendar-ruby
CALSCALE:GREGORIAN
METHOD:PUBLISH
BEGIN:VEVENT
DTSTAMP:20260424T103759Z
UID:154-6225@lccmuncie.org
DTSTART:20260501T223000Z
DTEND:20260502T035500Z
CLASS:PUBLIC
CREATED:20260423T105339
DESCRIPTION:Join us for some fun\, bring a snack and come to win!!
LAST-MODIFIED:20260423T105339
LOCATION:LCC Fellowship Hall
SUMMARY:Euchre Night
URL;VALUE=URI:https://www.lccmuncie.org/events/euchre-night--154/2026-05-01
ATTACH;FILENAME=pexels-jaliljj-1007523.jpg;FMTTYPE=image/jpeg:https://dq5pw
 pg1q8ru0.cloudfront.net/2026/04/23/14/53/38/7c4357cd-67e0-4f13-901a-1c288b
 c4620d/pexels-jaliljj-1007523.jpg
END:VEVENT
END:VCALENDAR
